BEGIN:VCALENDAR
VERSION:2.0
PRODID:-//Welcoming New Hampshire - ECPv6.15.13//NONSGML v1.0//EN
CALSCALE:GREGORIAN
METHOD:PUBLISH
X-WR-CALNAME:Welcoming New Hampshire
X-ORIGINAL-URL:https://welcomingnh.org
X-WR-CALDESC:Events for Welcoming New Hampshire
REFRESH-INTERVAL;VALUE=DURATION:PT1H
X-Robots-Tag:noindex
X-PUBLISHED-TTL:PT1H
BEGIN:VTIMEZONE
TZID:America/New_York
BEGIN:DAYLIGHT
TZOFFSETFROM:-0500
TZOFFSETTO:-0400
TZNAME:EDT
DTSTART:20240310T070000
END:DAYLIGHT
BEGIN:STANDARD
TZOFFSETFROM:-0400
TZOFFSETTO:-0500
TZNAME:EST
DTSTART:20241103T060000
END:STANDARD
BEGIN:DAYLIGHT
TZOFFSETFROM:-0500
TZOFFSETTO:-0400
TZNAME:EDT
DTSTART:20250309T070000
END:DAYLIGHT
BEGIN:STANDARD
TZOFFSETFROM:-0400
TZOFFSETTO:-0500
TZNAME:EST
DTSTART:20251102T060000
END:STANDARD
BEGIN:DAYLIGHT
TZOFFSETFROM:-0500
TZOFFSETTO:-0400
TZNAME:EDT
DTSTART:20260308T070000
END:DAYLIGHT
BEGIN:STANDARD
TZOFFSETFROM:-0400
TZOFFSETTO:-0500
TZNAME:EST
DTSTART:20261101T060000
END:STANDARD
BEGIN:DAYLIGHT
TZOFFSETFROM:-0500
TZOFFSETTO:-0400
TZNAME:EDT
DTSTART:20270314T070000
END:DAYLIGHT
BEGIN:STANDARD
TZOFFSETFROM:-0400
TZOFFSETTO:-0500
TZNAME:EST
DTSTART:20271107T060000
END:STANDARD
END:VTIMEZONE
BEGIN:VEVENT
DTSTART;TZID=America/New_York:20251009T160000
DTEND;TZID=America/New_York:20251009T164500
DTSTAMP:20260425T065813
CREATED:20251007T021314Z
LAST-MODIFIED:20251007T021314Z
UID:10233-1760025600-1760028300@welcomingnh.org
SUMMARY:Healthy Eating and Lifestyle Classes for Families
DESCRIPTION:
URL:https://welcomingnh.org/event/healthy-eating-and-lifestyle-classes-for-families/
LOCATION:Arlington Street Community Center\, 36 Arlington St\, Nashua\, NH\, United States
CATEGORIES:General
ORGANIZER;CN="Arlington Street Community Center":MAILTO:ASCC@nashuanh.gov
END:VEVENT
BEGIN:VEVENT
DTSTART;TZID=America/New_York:20251014T170000
DTEND;TZID=America/New_York:20251014T190000
DTSTAMP:20260425T065813
CREATED:20251006T201736Z
LAST-MODIFIED:20251006T202935Z
UID:10209-1760461200-1760468400@welcomingnh.org
SUMMARY:The Fall Fun Festival
DESCRIPTION: 
URL:https://welcomingnh.org/event/10209/
LOCATION:Nashua Public Library\, 2 Court Street\, Nashua\, NH\, 03060\, United States
CATEGORIES:General
END:VEVENT
BEGIN:VEVENT
DTSTART;TZID=America/New_York:20251014T180000
DTEND;TZID=America/New_York:20251014T200000
DTSTAMP:20260425T065813
CREATED:20251006T205443Z
LAST-MODIFIED:20251006T205443Z
UID:10221-1760464800-1760472000@welcomingnh.org
SUMMARY:Diaper Pantry
DESCRIPTION:  \n 
URL:https://welcomingnh.org/event/diaper-pantry/
LOCATION:Arlington Street Community Center\, 36 Arlington St\, Nashua\, NH\, United States
CATEGORIES:General
ORGANIZER;CN="Arlington Street Community Center":MAILTO:ASCC@nashuanh.gov
END:VEVENT
BEGIN:VEVENT
DTSTART;TZID=America/New_York:20251014T190000
DTEND;TZID=America/New_York:20251014T193000
DTSTAMP:20260425T065813
CREATED:20251007T022741Z
LAST-MODIFIED:20251007T022741Z
UID:10251-1760468400-1760470200@welcomingnh.org
SUMMARY:Robotics
DESCRIPTION:
URL:https://welcomingnh.org/event/robotics-2/
LOCATION:Arlington Street Community Center\, 36 Arlington St\, Nashua\, NH\, United States
CATEGORIES:General
ORGANIZER;CN="Arlington Street Community Center":MAILTO:ASCC@nashuanh.gov
END:VEVENT
BEGIN:VEVENT
DTSTART;TZID=America/New_York:20251016T160000
DTEND;TZID=America/New_York:20251016T164500
DTSTAMP:20260425T065813
CREATED:20251007T021552Z
LAST-MODIFIED:20251007T021650Z
UID:10236-1760630400-1760633100@welcomingnh.org
SUMMARY:Healthy Eating & Lifestyle Classes for Families.
DESCRIPTION:
URL:https://welcomingnh.org/event/10236/
LOCATION:Arlington Street Community Center\, 36 Arlington St\, Nashua\, NH\, United States
CATEGORIES:General
ORGANIZER;CN="Arlington Street Community Center":MAILTO:ASCC@nashuanh.gov
END:VEVENT
BEGIN:VEVENT
DTSTART;TZID=America/New_York:20251021T000000
DTEND;TZID=America/New_York:20251021T000000
DTSTAMP:20260425T065813
CREATED:20250318T022120Z
LAST-MODIFIED:20250318T022120Z
UID:9903-1761004800-1761004800@welcomingnh.org
SUMMARY:Diwali
DESCRIPTION:Known as the Festival of Lights\, this major Hindu festival symbolizes the victory of light over darkness. Celebrations include lighting oil lamps\, fireworks\, and sharing sweets
URL:https://welcomingnh.org/event/diwali/
LOCATION:NH
CATEGORIES:General,Holiday
END:VEVENT
BEGIN:VEVENT
DTSTART;TZID=America/New_York:20251021T170000
DTEND;TZID=America/New_York:20251021T190000
DTSTAMP:20260425T065813
CREATED:20251006T201157Z
LAST-MODIFIED:20251006T201157Z
UID:10203-1761066000-1761073200@welcomingnh.org
SUMMARY:80's Halloween Dance
DESCRIPTION:  \n 
URL:https://welcomingnh.org/event/80s-halloween-dance/
LOCATION:Arlington Street Community Center\, 36 Arlington St\, Nashua\, NH\, United States
CATEGORIES:General
ORGANIZER;CN="Arlington Street Community Center":MAILTO:ASCC@nashuanh.gov
END:VEVENT
BEGIN:VEVENT
DTSTART;TZID=America/New_York:20251021T190000
DTEND;TZID=America/New_York:20251021T193000
DTSTAMP:20260425T065813
CREATED:20251007T034701Z
LAST-MODIFIED:20251007T034701Z
UID:10253-1761073200-1761075000@welcomingnh.org
SUMMARY:Robotics
DESCRIPTION:
URL:https://welcomingnh.org/event/robotics-3/
LOCATION:Arlington Street Community Center\, 36 Arlington St\, Nashua\, NH\, United States
CATEGORIES:General
ORGANIZER;CN="Arlington Street Community Center":MAILTO:ASCC@nashuanh.gov
END:VEVENT
BEGIN:VEVENT
DTSTART;TZID=America/New_York:20251022T170000
DTEND;TZID=America/New_York:20251022T183000
DTSTAMP:20260425T065813
CREATED:20251007T014652Z
LAST-MODIFIED:20251007T014805Z
UID:10226-1761152400-1761157800@welcomingnh.org
SUMMARY:Teen Leadership
DESCRIPTION:
URL:https://welcomingnh.org/event/10226/
LOCATION:Arlington Street Community Center\, 36 Arlington St\, Nashua\, NH\, United States
CATEGORIES:General
ORGANIZER;CN="Arlington Street Community Center":MAILTO:ASCC@nashuanh.gov
END:VEVENT
BEGIN:VEVENT
DTSTART;TZID=America/New_York:20251023T160000
DTEND;TZID=America/New_York:20251023T164500
DTSTAMP:20260425T065813
CREATED:20251007T021809Z
LAST-MODIFIED:20251007T021809Z
UID:10239-1761235200-1761237900@welcomingnh.org
SUMMARY:Healthy Eating & Lifestyle Classes for Families.
DESCRIPTION:
URL:https://welcomingnh.org/event/healthy-eating-lifestyle-classes-for-families/
LOCATION:Arlington Street Community Center\, 36 Arlington St\, Nashua\, NH\, United States
CATEGORIES:General
ORGANIZER;CN="Arlington Street Community Center":MAILTO:ASCC@nashuanh.gov
END:VEVENT
BEGIN:VEVENT
DTSTART;TZID=America/New_York:20251023T160000
DTEND;TZID=America/New_York:20251023T164500
DTSTAMP:20260425T065813
CREATED:20251007T021929Z
LAST-MODIFIED:20251007T021929Z
UID:10241-1761235200-1761237900@welcomingnh.org
SUMMARY:Healthy Eating & Lifestyle Classes for Families.
DESCRIPTION:
URL:https://welcomingnh.org/event/healthy-eating-lifestyle-classes-for-families-2/
LOCATION:Arlington Street Community Center\, 36 Arlington St\, Nashua\, NH\, United States
CATEGORIES:General
ORGANIZER;CN="Arlington Street Community Center":MAILTO:ASCC@nashuanh.gov
END:VEVENT
BEGIN:VEVENT
DTSTART;TZID=America/New_York:20251024T173000
DTEND;TZID=America/New_York:20251024T183000
DTSTAMP:20260425T065813
CREATED:20251006T201322Z
LAST-MODIFIED:20251006T203445Z
UID:10207-1761327000-1761330600@welcomingnh.org
SUMMARY:Kids Halloween
DESCRIPTION:
URL:https://welcomingnh.org/event/10207/
LOCATION:Arlington Street Community Center\, 36 Arlington St\, Nashua\, NH\, United States
CATEGORIES:General
ORGANIZER;CN="Arlington Street Community Center":MAILTO:ASCC@nashuanh.gov
END:VEVENT
BEGIN:VEVENT
DTSTART;TZID=America/New_York:20251026T140000
DTEND;TZID=America/New_York:20251026T160000
DTSTAMP:20260425T065813
CREATED:20251006T204616Z
LAST-MODIFIED:20251006T204616Z
UID:10218-1761487200-1761494400@welcomingnh.org
SUMMARY:Trunk or Treat
DESCRIPTION:
URL:https://welcomingnh.org/event/trunk-or-treat/
LOCATION:Memorial Hall\, 435 South Main St\, Nashua\, NH\, 03860\, United States
CATEGORIES:General
ORGANIZER;CN="Rivier University%2C Office of Global Engagement":MAILTO:globalengagement@rivier.edu
END:VEVENT
BEGIN:VEVENT
DTSTART;TZID=America/New_York:20251027T173000
DTEND;TZID=America/New_York:20251027T193000
DTSTAMP:20260425T065813
CREATED:20251006T200451Z
LAST-MODIFIED:20251006T200910Z
UID:10197-1761586200-1761593400@welcomingnh.org
SUMMARY:Building Community Ward by Ward
DESCRIPTION:
URL:https://welcomingnh.org/event/building-community-ward-by-ward/
LOCATION:Nashua City Hall\, 229 Main St\, Nashua\, NH\, 03060\, United States
CATEGORIES:General
ORGANIZER;CN="Arlington Street Community Center":MAILTO:ASCC@nashuanh.gov
END:VEVENT
BEGIN:VEVENT
DTSTART;TZID=America/New_York:20251028T190000
DTEND;TZID=America/New_York:20251028T193000
DTSTAMP:20260425T065813
CREATED:20251007T034822Z
LAST-MODIFIED:20251007T034822Z
UID:10255-1761678000-1761679800@welcomingnh.org
SUMMARY:Robotics
DESCRIPTION:
URL:https://welcomingnh.org/event/robotics-4/
LOCATION:Arlington Street Community Center\, 36 Arlington St\, Nashua\, NH\, United States
CATEGORIES:General
ORGANIZER;CN="Arlington Street Community Center":MAILTO:ASCC@nashuanh.gov
END:VEVENT
BEGIN:VEVENT
DTSTART;TZID=America/New_York:20251029T170000
DTEND;TZID=America/New_York:20251029T183000
DTSTAMP:20260425T065813
CREATED:20251007T020834Z
LAST-MODIFIED:20251007T020834Z
UID:10231-1761757200-1761762600@welcomingnh.org
SUMMARY:Teen Leadership
DESCRIPTION:
URL:https://welcomingnh.org/event/teen-leadership/
LOCATION:Arlington Street Community Center\, 36 Arlington St\, Nashua\, NH\, United States
CATEGORIES:General
ORGANIZER;CN="Arlington Street Community Center":MAILTO:ASCC@nashuanh.gov
END:VEVENT
BEGIN:VEVENT
DTSTART;TZID=America/New_York:20251030T160000
DTEND;TZID=America/New_York:20251030T164500
DTSTAMP:20260425T065813
CREATED:20251007T022108Z
LAST-MODIFIED:20251007T022108Z
UID:10243-1761840000-1761842700@welcomingnh.org
SUMMARY:Healthy Eating & Lifestyle Classes for Families.
DESCRIPTION:
URL:https://welcomingnh.org/event/healthy-eating-lifestyle-classes-for-families-3/
LOCATION:Arlington Street Community Center\, 36 Arlington St\, Nashua\, NH\, United States
CATEGORIES:General
ORGANIZER;CN="Arlington Street Community Center":MAILTO:ASCC@nashuanh.gov
END:VEVENT
BEGIN:VEVENT
DTSTART;TZID=America/New_York:20251031T000000
DTEND;TZID=America/New_York:20251031T000000
DTSTAMP:20260425T065813
CREATED:20250318T022121Z
LAST-MODIFIED:20250318T022121Z
UID:9904-1761868800-1761868800@welcomingnh.org
SUMMARY:Halloween
DESCRIPTION:Celebrated in various countries\, notably the United States\, Halloween involves activities like trick-or-treating\, costume parties\, and carving pumpkins. Its origins trace back to ancient Celtic festivals.
URL:https://welcomingnh.org/event/halloween-2/
LOCATION:NH
CATEGORIES:General,Holiday
END:VEVENT
BEGIN:VEVENT
DTSTART;VALUE=DATE:20251107
DTEND;VALUE=DATE:20260101
DTSTAMP:20260425T065813
CREATED:20251107T160756Z
LAST-MODIFIED:20251107T160756Z
UID:10278-1762473600-1767225599@welcomingnh.org
SUMMARY:English Classes
DESCRIPTION:How to Register\n\n\n\n\nStep 1: Please click here to register for class. \nFor questions\, contact the ESL Enrollment Counselor (Anya) at Phone: 603-921-9590 / Email: registration@nashuaalc.org or ESL Counselor (Julia) at Phone: 603-689-3539 / Email: Jstryzhenko@nashuaalc.org. \nStep 2: You will be contacted by a staff member to complete the registration process within a few weeks. \nStep 3: You will take a placement test in speaking and reading.  This helps us to understand your current level and place you in the best class.   \nStep 4: You will receive your class placement information after you complete the test. \nStep 5: Your teacher will contact you during the week prior to your class start date. \n\n\n\n\nClass Schedule\n\n\n\n\nMorning: Monday/Wednesday/Friday 9am-11am OR Tuesday/Thursday 9am-11am \nEvening: Monday/Wednesday 6:30pm-8:30pm OR Tuesday/Thursday 6:30pm-8:30pm \n*No Friday Evening classes \n*No Friday classes in summer \n\n\n.
URL:https://welcomingnh.org/event/english-classes/
LOCATION:Nashua Learning Center\, 9 Lake Ave\, Nashua\, NH\, 03060\, United States
CATEGORIES:General
END:VEVENT
BEGIN:VEVENT
DTSTART;TZID=America/New_York:20251111T000000
DTEND;TZID=America/New_York:20251111T000000
DTSTAMP:20260425T065813
CREATED:20250318T022121Z
LAST-MODIFIED:20250318T022121Z
UID:9905-1762819200-1762819200@welcomingnh.org
SUMMARY:Veterans Day
DESCRIPTION:In the United States\, Veterans Day honors military veterans who have served in the U.S. Armed Forces. Observances include ceremonies and parades.
URL:https://welcomingnh.org/event/veterans-day-2/
LOCATION:NH
CATEGORIES:General,Holiday
END:VEVENT
BEGIN:VEVENT
DTSTART;TZID=America/New_York:20251113T090000
DTEND;TZID=America/New_York:20251113T110000
DTSTAMP:20260425T065813
CREATED:20251107T152155Z
LAST-MODIFIED:20251107T152155Z
UID:10263-1763024400-1763031600@welcomingnh.org
SUMMARY:Welcoming NH Table Meeting\, November
DESCRIPTION:The Welcoming NH Table meeting will be next Thursday\, November 13th\, 9-11 am via zoom.\nWe are changing the order up a little\, we will first hear from Senior Policy Advisor Karen Phillippi with Welcoming America\, a National Organization working to ensure everyone belongs in our communities\, including immigrants.\nWe will then break into our relationship-building exercise to discuss what can be done to address the current situation.\nAt a time when need is rising dramatically\, the shutdown threatens to delay or halt SNAP benefit distribution\, while broader policy reforms under the current administration are reducing eligibility and benefits in SNAP\, Medicaid and ACA subsidies.\nImmigrants — especially lawfully present refugees\, asylees and trafficking survivors — are being disproportionately affected. These shifts\, combined with rising food\, housing and health costs\, are deepening hardship for low-income families.”\nPlease join us to hear from our speaker\, to connect with your colleagues\, and discuss what we need to do to address the current situation.\nPlease share with anyone you feel may be interested and have them email me at dholt@miracoalition.org for the link.
URL:https://welcomingnh.org/event/welcoming-nh-table-meeting-november/
LOCATION:Zoom\, NH\, United States
CATEGORIES:General
ORGANIZER;CN="Welcoming New Hampshire":MAILTO:WelcomingNH@miracoalition.org
END:VEVENT
BEGIN:VEVENT
DTSTART;TZID=America/New_York:20251127T000000
DTEND;TZID=America/New_York:20251127T000000
DTSTAMP:20260425T065813
CREATED:20250318T022122Z
LAST-MODIFIED:20250318T022122Z
UID:9906-1764201600-1764201600@welcomingnh.org
SUMMARY:Thanksgiving Day
DESCRIPTION:A U.S. holiday expressing gratitude for the harvest and blessings of the past year. Traditions include family gatherings and festive meals\, notably featuring turkey.
URL:https://welcomingnh.org/event/thanksgiving-day-2/
LOCATION:NH
CATEGORIES:General,Holiday
END:VEVENT
BEGIN:VEVENT
DTSTART;TZID=America/New_York:20251129T100000
DTEND;TZID=America/New_York:20251129T150000
DTSTAMP:20260425T065813
CREATED:20251107T153737Z
LAST-MODIFIED:20251107T153737Z
UID:10268-1764410400-1764428400@welcomingnh.org
SUMMARY:BAPOC Marketplace
DESCRIPTION:BAPOC Marketplace Flyer
URL:https://welcomingnh.org/event/bapoc-marketplace/
LOCATION:Olive Grove Event Ctr\, 201 Hanover St.\,\, Manchester\, 03103\, United States
CATEGORIES:General
ORGANIZER;CN="The Business Alliance":MAILTO:admin@bapoc.org
END:VEVENT
BEGIN:VEVENT
DTSTART;TZID=America/New_York:20251223T000000
DTEND;TZID=America/New_York:20251231T000000
DTSTAMP:20260425T065813
CREATED:20250318T022123Z
LAST-MODIFIED:20250318T022123Z
UID:9907-1766448000-1767139200@welcomingnh.org
SUMMARY:Hanukkah
DESCRIPTION:Also known as the Festival of Lights\, this Jewish holiday commemorates the rededication of the Second Temple in Jerusalem. Celebrations include lighting the menorah\, playing dreidel\, and eating oil-based foods.
URL:https://welcomingnh.org/event/hanukkah/
LOCATION:NH
CATEGORIES:General,Holiday
END:VEVENT
BEGIN:VEVENT
DTSTART;TZID=America/New_York:20251225T000000
DTEND;TZID=America/New_York:20251225T000000
DTSTAMP:20260425T065813
CREATED:20250318T022245Z
LAST-MODIFIED:20250318T022245Z
UID:9908-1766620800-1766620800@welcomingnh.org
SUMMARY:Christmas Day
DESCRIPTION:Celebrated by Christians worldwide\, Christmas commemorates the birth of Jesus Christ. Traditions include attending church services\, exchanging gifts\, and festive decorations.
URL:https://welcomingnh.org/event/christmas-day/
LOCATION:NH
CATEGORIES:General,Holiday
END:VEVENT
BEGIN:VEVENT
DTSTART;TZID=America/New_York:20251226T000000
DTEND;TZID=America/New_York:20260101T000000
DTSTAMP:20260425T065813
CREATED:20250318T022246Z
LAST-MODIFIED:20250318T022246Z
UID:9909-1766707200-1767225600@welcomingnh.org
SUMMARY:Kwanzaa
DESCRIPTION:An African-American cultural festival celebrating African heritage and values. Each of the seven days focuses on one of the Nguzo Saba\, or seven principles.
URL:https://welcomingnh.org/event/kwanzaa/
LOCATION:NH
CATEGORIES:General,Holiday
END:VEVENT
BEGIN:VEVENT
DTSTART;TZID=America/New_York:20260101T000000
DTEND;TZID=America/New_York:20260101T000000
DTSTAMP:20260425T065813
CREATED:20250318T022246Z
LAST-MODIFIED:20250318T022246Z
UID:9910-1767225600-1767225600@welcomingnh.org
SUMMARY:New Year's Day
DESCRIPTION:Celebrated worldwide\, New Year’s Day marks the beginning of the new calendar year. Traditions include fireworks\, parties\, and making resolutions.
URL:https://welcomingnh.org/event/new-years-day-3/
LOCATION:NH
CATEGORIES:General,Holiday
END:VEVENT
BEGIN:VEVENT
DTSTART;TZID=America/New_York:20260119T000000
DTEND;TZID=America/New_York:20260119T000000
DTSTAMP:20260425T065813
CREATED:20250318T022247Z
LAST-MODIFIED:20250318T022247Z
UID:9911-1768780800-1768780800@welcomingnh.org
SUMMARY:Martin Luther King Jr. Day
DESCRIPTION:A U.S. federal holiday honoring the civil rights leader Martin Luther King Jr. Observances include educational programs\, community service\, and reflections on civil rights.
URL:https://welcomingnh.org/event/martin-luther-king-jr-day-2/
LOCATION:NH
CATEGORIES:General,Holiday
END:VEVENT
BEGIN:VEVENT
DTSTART;TZID=America/New_York:20260214T000000
DTEND;TZID=America/New_York:20260214T000000
DTSTAMP:20260425T065813
CREATED:20250318T022300Z
LAST-MODIFIED:20250318T022300Z
UID:9913-1771027200-1771027200@welcomingnh.org
SUMMARY:Valentine's Day
DESCRIPTION:Celebrated in many countries\, Valentine’s Day is associated with romantic love. Traditions include exchanging cards\, flowers\, and gifts with loved ones.
URL:https://welcomingnh.org/event/valentines-day/
LOCATION:NH
CATEGORIES:General,Holiday
END:VEVENT
BEGIN:VEVENT
DTSTART;TZID=America/New_York:20260217T000000
DTEND;TZID=America/New_York:20260217T000000
DTSTAMP:20260425T065813
CREATED:20250318T022247Z
LAST-MODIFIED:20250318T022247Z
UID:9912-1771286400-1771286400@welcomingnh.org
SUMMARY:Lunar New Year
DESCRIPTION:Also known as Chinese New Year\, this festival marks the beginning of the lunar new year. Celebrated in many East Asian countries\, traditions include family reunions\, feasts\, and dragon dances.
URL:https://welcomingnh.org/event/lunar-new-year/
LOCATION:NH
CATEGORIES:General,Holiday
END:VEVENT
END:VCALENDAR