BEGIN:VCALENDAR
VERSION:2.0
PRODID:-//Welcoming New Hampshire - ECPv6.15.13//NONSGML v1.0//EN
CALSCALE:GREGORIAN
METHOD:PUBLISH
X-WR-CALNAME:Welcoming New Hampshire
X-ORIGINAL-URL:https://welcomingnh.org
X-WR-CALDESC:Events for Welcoming New Hampshire
REFRESH-INTERVAL;VALUE=DURATION:PT1H
X-Robots-Tag:noindex
X-PUBLISHED-TTL:PT1H
BEGIN:VTIMEZONE
TZID:America/New_York
BEGIN:DAYLIGHT
TZOFFSETFROM:-0500
TZOFFSETTO:-0400
TZNAME:EDT
DTSTART:20240310T070000
END:DAYLIGHT
BEGIN:STANDARD
TZOFFSETFROM:-0400
TZOFFSETTO:-0500
TZNAME:EST
DTSTART:20241103T060000
END:STANDARD
BEGIN:DAYLIGHT
TZOFFSETFROM:-0500
TZOFFSETTO:-0400
TZNAME:EDT
DTSTART:20250309T070000
END:DAYLIGHT
BEGIN:STANDARD
TZOFFSETFROM:-0400
TZOFFSETTO:-0500
TZNAME:EST
DTSTART:20251102T060000
END:STANDARD
BEGIN:DAYLIGHT
TZOFFSETFROM:-0500
TZOFFSETTO:-0400
TZNAME:EDT
DTSTART:20260308T070000
END:DAYLIGHT
BEGIN:STANDARD
TZOFFSETFROM:-0400
TZOFFSETTO:-0500
TZNAME:EST
DTSTART:20261101T060000
END:STANDARD
END:VTIMEZONE
BEGIN:VEVENT
DTSTART;TZID=America/New_York:20250412T000000
DTEND;TZID=America/New_York:20250420T000000
DTSTAMP:20260425T001155
CREATED:20250318T022021Z
LAST-MODIFIED:20250318T022021Z
UID:9886-1744416000-1745107200@welcomingnh.org
SUMMARY:Passover (Pesach)
DESCRIPTION:A major Jewish festival celebrating the liberation of the Israelites from Egyptian slavery. Traditions include the Seder meal and abstaining from leavened bread.
URL:https://welcomingnh.org/event/passover-pesach/
CATEGORIES:General,Holiday
END:VEVENT
BEGIN:VEVENT
DTSTART;TZID=America/New_York:20250413T000000
DTEND;TZID=America/New_York:20250413T000000
DTSTAMP:20260425T001155
CREATED:20250318T022015Z
LAST-MODIFIED:20250318T022015Z
UID:9881-1744502400-1744502400@welcomingnh.org
SUMMARY:Palm Sunday
DESCRIPTION:In Christianity\, particularly among Catholics\, this day commemorates Jesus Christ’s triumphant entry into Jerusalem\, marking the start of Holy Week. Observances include attending mass and processions.
URL:https://welcomingnh.org/event/palm-sunday/
CATEGORIES:General,Holiday
END:VEVENT
BEGIN:VEVENT
DTSTART;TZID=America/New_York:20250418T000000
DTEND;TZID=America/New_York:20250418T000000
DTSTAMP:20260425T001155
CREATED:20250318T022016Z
LAST-MODIFIED:20250318T022016Z
UID:9882-1744934400-1744934400@welcomingnh.org
SUMMARY:Good Friday
DESCRIPTION:Christians worldwide observe Good Friday to commemorate the crucifixion of Jesus Christ. It’s a day of mourning\, reflection\, and prayer.
URL:https://welcomingnh.org/event/good-friday/
CATEGORIES:General,Holiday
END:VEVENT
BEGIN:VEVENT
DTSTART;TZID=America/New_York:20250420T000000
DTEND;TZID=America/New_York:20250420T000000
DTSTAMP:20260425T001155
CREATED:20250318T022019Z
LAST-MODIFIED:20250318T022019Z
UID:9883-1745107200-1745107200@welcomingnh.org
SUMMARY:Easter Sunday
DESCRIPTION:Celebrated by Christians globally\, Easter Sunday marks the resurrection of Jesus Christ from the dead. Traditions include attending church services\, festive meals\, and egg-related activities.
URL:https://welcomingnh.org/event/easter-sunday/
CATEGORIES:General,Holiday
END:VEVENT
BEGIN:VEVENT
DTSTART;TZID=America/New_York:20250422T000000
DTEND;TZID=America/New_York:20250422T000000
DTSTAMP:20260425T001155
CREATED:20250318T022021Z
LAST-MODIFIED:20250318T022021Z
UID:9887-1745280000-1745280000@welcomingnh.org
SUMMARY:Earth Day
DESCRIPTION:An international observance promoting environmental protection and awareness. Established in 1970\, it’s celebrated with events\, clean-up activities\, and educational programs.
URL:https://welcomingnh.org/event/earth-day/
CATEGORIES:General,Holiday
END:VEVENT
END:VCALENDAR