BEGIN:VCALENDAR
VERSION:2.0
PRODID:-//Welcoming New Hampshire - ECPv6.15.13//NONSGML v1.0//EN
CALSCALE:GREGORIAN
METHOD:PUBLISH
X-WR-CALNAME:Welcoming New Hampshire
X-ORIGINAL-URL:https://welcomingnh.org
X-WR-CALDESC:Events for Welcoming New Hampshire
REFRESH-INTERVAL;VALUE=DURATION:PT1H
X-Robots-Tag:noindex
X-PUBLISHED-TTL:PT1H
BEGIN:VTIMEZONE
TZID:America/New_York
BEGIN:DAYLIGHT
TZOFFSETFROM:-0500
TZOFFSETTO:-0400
TZNAME:EDT
DTSTART:20240310T070000
END:DAYLIGHT
BEGIN:STANDARD
TZOFFSETFROM:-0400
TZOFFSETTO:-0500
TZNAME:EST
DTSTART:20241103T060000
END:STANDARD
BEGIN:DAYLIGHT
TZOFFSETFROM:-0500
TZOFFSETTO:-0400
TZNAME:EDT
DTSTART:20250309T070000
END:DAYLIGHT
BEGIN:STANDARD
TZOFFSETFROM:-0400
TZOFFSETTO:-0500
TZNAME:EST
DTSTART:20251102T060000
END:STANDARD
BEGIN:DAYLIGHT
TZOFFSETFROM:-0500
TZOFFSETTO:-0400
TZNAME:EDT
DTSTART:20260308T070000
END:DAYLIGHT
BEGIN:STANDARD
TZOFFSETFROM:-0400
TZOFFSETTO:-0500
TZNAME:EST
DTSTART:20261101T060000
END:STANDARD
BEGIN:DAYLIGHT
TZOFFSETFROM:-0500
TZOFFSETTO:-0400
TZNAME:EDT
DTSTART:20270314T070000
END:DAYLIGHT
BEGIN:STANDARD
TZOFFSETFROM:-0400
TZOFFSETTO:-0500
TZNAME:EST
DTSTART:20271107T060000
END:STANDARD
END:VTIMEZONE
BEGIN:VEVENT
DTSTART;TZID=America/New_York:20250619T000000
DTEND;TZID=America/New_York:20250619T000000
DTSTAMP:20260425T094323
CREATED:20250318T022049Z
LAST-MODIFIED:20250318T022049Z
UID:9893-1750291200-1750291200@welcomingnh.org
SUMMARY:Juneteenth
DESCRIPTION:Also known as Emancipation Day\, Juneteenth commemorates the end of slavery in the United States. Originating in Texas\, it’s celebrated with cultural events\, parades\, and educational activities.
URL:https://welcomingnh.org/event/juneteenth-4/
CATEGORIES:General,Holiday
END:VEVENT
BEGIN:VEVENT
DTSTART;TZID=America/New_York:20250701T000000
DTEND;TZID=America/New_York:20250701T000000
DTSTAMP:20260425T094323
CREATED:20250318T022050Z
LAST-MODIFIED:20250318T022050Z
UID:9894-1751328000-1751328000@welcomingnh.org
SUMMARY:Canada Day
DESCRIPTION:Canada’s national day marks the anniversary of the confederation in 1867. Celebrations include fireworks\, concerts\, and patriotic displays.
URL:https://welcomingnh.org/event/canada-day/
CATEGORIES:General,Holiday
END:VEVENT
BEGIN:VEVENT
DTSTART;TZID=America/New_York:20250704T000000
DTEND;TZID=America/New_York:20250704T000000
DTSTAMP:20260425T094323
CREATED:20250318T022050Z
LAST-MODIFIED:20250318T022050Z
UID:9895-1751587200-1751587200@welcomingnh.org
SUMMARY:Independence Day
DESCRIPTION:The United States’ national day commemorates the adoption of the Declaration of Independence in 1776. Festivities include fireworks\, parades\, and family gatherings.
URL:https://welcomingnh.org/event/independence-day-2/
CATEGORIES:General,Holiday
END:VEVENT
BEGIN:VEVENT
DTSTART;TZID=America/New_York:20250714T000000
DTEND;TZID=America/New_York:20250714T000000
DTSTAMP:20260425T094323
CREATED:20250318T022051Z
LAST-MODIFIED:20250318T022051Z
UID:9896-1752451200-1752451200@welcomingnh.org
SUMMARY:Bastille Day
DESCRIPTION:France’s national day commemorates the Storming of the Bastille in 1789\, a pivotal event in the French Revolution. Celebrations include parades\, fireworks\, and parties.
URL:https://welcomingnh.org/event/bastille-day/
CATEGORIES:General,Holiday
END:VEVENT
BEGIN:VEVENT
DTSTART;TZID=America/New_York:20250726T000000
DTEND;TZID=America/New_York:20250726T000000
DTSTAMP:20260425T094323
CREATED:20250318T022051Z
LAST-MODIFIED:20250318T022051Z
UID:9897-1753488000-1753488000@welcomingnh.org
SUMMARY:Islamic New Year
DESCRIPTION:Also known as Hijri New Year\, it marks the beginning of the Islamic lunar calendar year. Observances include prayers\, reflections\, and community gatherings.
URL:https://welcomingnh.org/event/islamic-new-year/
CATEGORIES:General,Holiday
END:VEVENT
BEGIN:VEVENT
DTSTART;TZID=America/New_York:20250803T000000
DTEND;TZID=America/New_York:20250803T000000
DTSTAMP:20260425T094323
CREATED:20250318T022104Z
LAST-MODIFIED:20250318T022104Z
UID:9898-1754179200-1754179200@welcomingnh.org
SUMMARY:International Friendship Day
DESCRIPTION:Celebrated worldwide\, this day honors the significance of friendships and promotes peace. Traditions include exchanging gifts and spending time with friends.
URL:https://welcomingnh.org/event/international-friendship-day/
CATEGORIES:General,Holiday
END:VEVENT
BEGIN:VEVENT
DTSTART;TZID=America/New_York:20250815T000000
DTEND;TZID=America/New_York:20250815T000000
DTSTAMP:20260425T094323
CREATED:20250318T022105Z
LAST-MODIFIED:20250318T022105Z
UID:9899-1755216000-1755216000@welcomingnh.org
SUMMARY:Assumption of Mary
DESCRIPTION:In Christianity\, particularly among Catholics\, this day commemorates the belief that the Virgin Mary was assumed body and soul into heaven. Observances include attending mass and processions.
URL:https://welcomingnh.org/event/assumption-of-mary/
CATEGORIES:General,Holiday
END:VEVENT
BEGIN:VEVENT
DTSTART;TZID=America/New_York:20250901T000000
DTEND;TZID=America/New_York:20250901T000000
DTSTAMP:20260425T094323
CREATED:20250318T022106Z
LAST-MODIFIED:20250318T022106Z
UID:9900-1756684800-1756684800@welcomingnh.org
SUMMARY:Labor Day
DESCRIPTION:In the United States\, Labor Day honors the contributions of workers and the labor movement. Observed on the first Monday of September\, it’s celebrated with parades\, picnics\, and a day off work.
URL:https://welcomingnh.org/event/labor-day-2/
CATEGORIES:General,Holiday
END:VEVENT
BEGIN:VEVENT
DTSTART;TZID=America/New_York:20250922T000000
DTEND;TZID=America/New_York:20250924T000000
DTSTAMP:20260425T094323
CREATED:20250318T022106Z
LAST-MODIFIED:20250318T022106Z
UID:9901-1758499200-1758672000@welcomingnh.org
SUMMARY:Rosh Hashanah
DESCRIPTION:The Jewish New Year\, marking the beginning of the High Holy Days. Traditions include sounding the shofar (ram’s horn) and festive meals.
URL:https://welcomingnh.org/event/rosh-hashanah/
CATEGORIES:General,Holiday
END:VEVENT
BEGIN:VEVENT
DTSTART;TZID=America/New_York:20251001T000000
DTEND;TZID=America/New_York:20251002T000000
DTSTAMP:20260425T094323
CREATED:20250318T022107Z
LAST-MODIFIED:20250318T022107Z
UID:9902-1759276800-1759363200@welcomingnh.org
SUMMARY:Yom Kippur
DESCRIPTION:Known as the Day of Atonement\, it’s the holiest day in Judaism\, dedicated to fasting\, prayer\, and repentance.
URL:https://welcomingnh.org/event/yom-kippur/
CATEGORIES:General,Holiday
END:VEVENT
BEGIN:VEVENT
DTSTART;TZID=America/New_York:20251021T000000
DTEND;TZID=America/New_York:20251021T000000
DTSTAMP:20260425T094323
CREATED:20250318T022120Z
LAST-MODIFIED:20250318T022120Z
UID:9903-1761004800-1761004800@welcomingnh.org
SUMMARY:Diwali
DESCRIPTION:Known as the Festival of Lights\, this major Hindu festival symbolizes the victory of light over darkness. Celebrations include lighting oil lamps\, fireworks\, and sharing sweets
URL:https://welcomingnh.org/event/diwali/
CATEGORIES:General,Holiday
END:VEVENT
BEGIN:VEVENT
DTSTART;TZID=America/New_York:20251031T000000
DTEND;TZID=America/New_York:20251031T000000
DTSTAMP:20260425T094323
CREATED:20250318T022121Z
LAST-MODIFIED:20250318T022121Z
UID:9904-1761868800-1761868800@welcomingnh.org
SUMMARY:Halloween
DESCRIPTION:Celebrated in various countries\, notably the United States\, Halloween involves activities like trick-or-treating\, costume parties\, and carving pumpkins. Its origins trace back to ancient Celtic festivals.
URL:https://welcomingnh.org/event/halloween-2/
CATEGORIES:General,Holiday
END:VEVENT
BEGIN:VEVENT
DTSTART;TZID=America/New_York:20251111T000000
DTEND;TZID=America/New_York:20251111T000000
DTSTAMP:20260425T094323
CREATED:20250318T022121Z
LAST-MODIFIED:20250318T022121Z
UID:9905-1762819200-1762819200@welcomingnh.org
SUMMARY:Veterans Day
DESCRIPTION:In the United States\, Veterans Day honors military veterans who have served in the U.S. Armed Forces. Observances include ceremonies and parades.
URL:https://welcomingnh.org/event/veterans-day-2/
CATEGORIES:General,Holiday
END:VEVENT
BEGIN:VEVENT
DTSTART;TZID=America/New_York:20251127T000000
DTEND;TZID=America/New_York:20251127T000000
DTSTAMP:20260425T094323
CREATED:20250318T022122Z
LAST-MODIFIED:20250318T022122Z
UID:9906-1764201600-1764201600@welcomingnh.org
SUMMARY:Thanksgiving Day
DESCRIPTION:A U.S. holiday expressing gratitude for the harvest and blessings of the past year. Traditions include family gatherings and festive meals\, notably featuring turkey.
URL:https://welcomingnh.org/event/thanksgiving-day-2/
CATEGORIES:General,Holiday
END:VEVENT
BEGIN:VEVENT
DTSTART;TZID=America/New_York:20251223T000000
DTEND;TZID=America/New_York:20251231T000000
DTSTAMP:20260425T094323
CREATED:20250318T022123Z
LAST-MODIFIED:20250318T022123Z
UID:9907-1766448000-1767139200@welcomingnh.org
SUMMARY:Hanukkah
DESCRIPTION:Also known as the Festival of Lights\, this Jewish holiday commemorates the rededication of the Second Temple in Jerusalem. Celebrations include lighting the menorah\, playing dreidel\, and eating oil-based foods.
URL:https://welcomingnh.org/event/hanukkah/
CATEGORIES:General,Holiday
END:VEVENT
BEGIN:VEVENT
DTSTART;TZID=America/New_York:20251225T000000
DTEND;TZID=America/New_York:20251225T000000
DTSTAMP:20260425T094323
CREATED:20250318T022245Z
LAST-MODIFIED:20250318T022245Z
UID:9908-1766620800-1766620800@welcomingnh.org
SUMMARY:Christmas Day
DESCRIPTION:Celebrated by Christians worldwide\, Christmas commemorates the birth of Jesus Christ. Traditions include attending church services\, exchanging gifts\, and festive decorations.
URL:https://welcomingnh.org/event/christmas-day/
CATEGORIES:General,Holiday
END:VEVENT
BEGIN:VEVENT
DTSTART;TZID=America/New_York:20251226T000000
DTEND;TZID=America/New_York:20260101T000000
DTSTAMP:20260425T094323
CREATED:20250318T022246Z
LAST-MODIFIED:20250318T022246Z
UID:9909-1766707200-1767225600@welcomingnh.org
SUMMARY:Kwanzaa
DESCRIPTION:An African-American cultural festival celebrating African heritage and values. Each of the seven days focuses on one of the Nguzo Saba\, or seven principles.
URL:https://welcomingnh.org/event/kwanzaa/
CATEGORIES:General,Holiday
END:VEVENT
BEGIN:VEVENT
DTSTART;TZID=America/New_York:20260101T000000
DTEND;TZID=America/New_York:20260101T000000
DTSTAMP:20260425T094323
CREATED:20250318T022246Z
LAST-MODIFIED:20250318T022246Z
UID:9910-1767225600-1767225600@welcomingnh.org
SUMMARY:New Year's Day
DESCRIPTION:Celebrated worldwide\, New Year’s Day marks the beginning of the new calendar year. Traditions include fireworks\, parties\, and making resolutions.
URL:https://welcomingnh.org/event/new-years-day-3/
CATEGORIES:General,Holiday
END:VEVENT
BEGIN:VEVENT
DTSTART;TZID=America/New_York:20260119T000000
DTEND;TZID=America/New_York:20260119T000000
DTSTAMP:20260425T094323
CREATED:20250318T022247Z
LAST-MODIFIED:20250318T022247Z
UID:9911-1768780800-1768780800@welcomingnh.org
SUMMARY:Martin Luther King Jr. Day
DESCRIPTION:A U.S. federal holiday honoring the civil rights leader Martin Luther King Jr. Observances include educational programs\, community service\, and reflections on civil rights.
URL:https://welcomingnh.org/event/martin-luther-king-jr-day-2/
CATEGORIES:General,Holiday
END:VEVENT
BEGIN:VEVENT
DTSTART;TZID=America/New_York:20260214T000000
DTEND;TZID=America/New_York:20260214T000000
DTSTAMP:20260425T094323
CREATED:20250318T022300Z
LAST-MODIFIED:20250318T022300Z
UID:9913-1771027200-1771027200@welcomingnh.org
SUMMARY:Valentine's Day
DESCRIPTION:Celebrated in many countries\, Valentine’s Day is associated with romantic love. Traditions include exchanging cards\, flowers\, and gifts with loved ones.
URL:https://welcomingnh.org/event/valentines-day/
CATEGORIES:General,Holiday
END:VEVENT
BEGIN:VEVENT
DTSTART;TZID=America/New_York:20260217T000000
DTEND;TZID=America/New_York:20260217T000000
DTSTAMP:20260425T094323
CREATED:20250318T022247Z
LAST-MODIFIED:20250318T022247Z
UID:9912-1771286400-1771286400@welcomingnh.org
SUMMARY:Lunar New Year
DESCRIPTION:Also known as Chinese New Year\, this festival marks the beginning of the lunar new year. Celebrated in many East Asian countries\, traditions include family reunions\, feasts\, and dragon dances.
URL:https://welcomingnh.org/event/lunar-new-year/
CATEGORIES:General,Holiday
END:VEVENT
BEGIN:VEVENT
DTSTART;TZID=America/New_York:20260225T000000
DTEND;TZID=America/New_York:20260225T000000
DTSTAMP:20260425T094323
CREATED:20250318T022301Z
LAST-MODIFIED:20250318T022301Z
UID:9914-1771977600-1771977600@welcomingnh.org
SUMMARY:Ash Wednesday
DESCRIPTION:In Christianity\, Ash Wednesday marks the beginning of Lent\, a 40-day period of fasting and repentance leading up to Easter. Observances include church services and the imposition of ashes.
URL:https://welcomingnh.org/event/ash-wednesday/
CATEGORIES:General,Holiday
END:VEVENT
BEGIN:VEVENT
DTSTART;TZID=America/New_York:20260317T000000
DTEND;TZID=America/New_York:20260317T000000
DTSTAMP:20260425T094323
CREATED:20250318T022301Z
LAST-MODIFIED:20250318T022301Z
UID:9915-1773705600-1773705600@welcomingnh.org
SUMMARY:St. Patrick's Day
DESCRIPTION:Observed in Ireland and by people of Irish descent worldwide\, this day honors Saint Patrick\, the patron saint of Ireland. Celebrations often include parades\, wearing green attire\, and cultural festivities.
URL:https://welcomingnh.org/event/st-patricks-day-2/
CATEGORIES:General,Holiday
END:VEVENT
BEGIN:VEVENT
DTSTART;TZID=America/New_York:20260401T000000
DTEND;TZID=America/New_York:20260409T000000
DTSTAMP:20260425T094323
CREATED:20250318T022316Z
LAST-MODIFIED:20250318T022316Z
UID:9919-1775001600-1775692800@welcomingnh.org
SUMMARY:Passover (Pesach)
DESCRIPTION:A major Jewish festival celebrating the liberation of the Israelites from Egyptian slavery. Traditions include the Seder meal and abstaining from leavened bread.
URL:https://welcomingnh.org/event/passover-pesach-2/
CATEGORIES:General,Holiday
END:VEVENT
BEGIN:VEVENT
DTSTART;TZID=America/New_York:20260403T000000
DTEND;TZID=America/New_York:20260403T000000
DTSTAMP:20260425T094323
CREATED:20250318T022302Z
LAST-MODIFIED:20250318T022302Z
UID:9916-1775174400-1775174400@welcomingnh.org
SUMMARY:Good Friday
DESCRIPTION:Christians worldwide observe Good Friday to commemorate the crucifixion of Jesus Christ. It’s a day of mourning\, reflection\, and prayer.
URL:https://welcomingnh.org/event/good-friday-2/
CATEGORIES:General,Holiday
END:VEVENT
BEGIN:VEVENT
DTSTART;TZID=America/New_York:20260405T000000
DTEND;TZID=America/New_York:20260405T000000
DTSTAMP:20260425T094323
CREATED:20250318T022303Z
LAST-MODIFIED:20250318T022303Z
UID:9917-1775347200-1775347200@welcomingnh.org
SUMMARY:Easter Sunday
DESCRIPTION:Celebrated by Christians globally\, Easter Sunday marks the resurrection of Jesus Christ from the dead. Traditions include attending church services\, festive meals\, and egg-related activities.
URL:https://welcomingnh.org/event/easter-sunday-2/
CATEGORIES:General,Holiday
END:VEVENT
BEGIN:VEVENT
DTSTART;TZID=America/New_York:20260417T000000
DTEND;TZID=America/New_York:20260516T000000
DTSTAMP:20260425T094323
CREATED:20250318T022315Z
LAST-MODIFIED:20250318T022315Z
UID:9918-1776384000-1778889600@welcomingnh.org
SUMMARY:Ramadan
DESCRIPTION:A holy month of fasting\, prayer\, and reflection for Muslims worldwide. It commemorates the first revelation of the Quran to Muhammad. Observers fast from dawn until sunset.
URL:https://welcomingnh.org/event/ramadan-2/
CATEGORIES:General,Holiday
END:VEVENT
BEGIN:VEVENT
DTSTART;TZID=America/New_York:20260422T000000
DTEND;TZID=America/New_York:20260422T000000
DTSTAMP:20260425T094323
CREATED:20250318T022316Z
LAST-MODIFIED:20250318T022316Z
UID:9920-1776816000-1776816000@welcomingnh.org
SUMMARY:Earth Day
DESCRIPTION:An international observance promoting environmental protection and awareness. Established in 1970\, it’s celebrated with events\, clean-up activities\, and educational programs.
URL:https://welcomingnh.org/event/earth-day-2/
CATEGORIES:General,Holiday
END:VEVENT
BEGIN:VEVENT
DTSTART;TZID=America/New_York:20260510T000000
DTEND;TZID=America/New_York:20260510T000000
DTSTAMP:20260425T094323
CREATED:20250318T022317Z
LAST-MODIFIED:20250318T022317Z
UID:9921-1778371200-1778371200@welcomingnh.org
SUMMARY:Mother's Day
DESCRIPTION:Celebrated in many countries\, Mother’s Day honors mothers and motherhood. Traditions include giving gifts\, cards\, and spending time with family.
URL:https://welcomingnh.org/event/mothers-day-2/
CATEGORIES:General,Holiday
END:VEVENT
BEGIN:VEVENT
DTSTART;TZID=America/New_York:20260525T000000
DTEND;TZID=America/New_York:20260525T000000
DTSTAMP:20260425T094323
CREATED:20250318T022317Z
LAST-MODIFIED:20250318T022317Z
UID:9922-1779667200-1779667200@welcomingnh.org
SUMMARY:Memorial Day
DESCRIPTION:In the United States\, Memorial Day honors military personnel who have died in service. Observed on the last Monday of May\, traditions include visiting cemeteries and holding parades.
URL:https://welcomingnh.org/event/memorial-day-4/
CATEGORIES:General,Holiday
END:VEVENT
END:VCALENDAR