BEGIN:VCALENDAR
VERSION:2.0
PRODID:-//Welcoming New Hampshire - ECPv6.15.13//NONSGML v1.0//EN
CALSCALE:GREGORIAN
METHOD:PUBLISH
X-WR-CALNAME:Welcoming New Hampshire
X-ORIGINAL-URL:https://welcomingnh.org
X-WR-CALDESC:Events for Welcoming New Hampshire
REFRESH-INTERVAL;VALUE=DURATION:PT1H
X-Robots-Tag:noindex
X-PUBLISHED-TTL:PT1H
BEGIN:VTIMEZONE
TZID:America/New_York
BEGIN:DAYLIGHT
TZOFFSETFROM:-0500
TZOFFSETTO:-0400
TZNAME:EDT
DTSTART:20250309T070000
END:DAYLIGHT
BEGIN:STANDARD
TZOFFSETFROM:-0400
TZOFFSETTO:-0500
TZNAME:EST
DTSTART:20251102T060000
END:STANDARD
BEGIN:DAYLIGHT
TZOFFSETFROM:-0500
TZOFFSETTO:-0400
TZNAME:EDT
DTSTART:20260308T070000
END:DAYLIGHT
BEGIN:STANDARD
TZOFFSETFROM:-0400
TZOFFSETTO:-0500
TZNAME:EST
DTSTART:20261101T060000
END:STANDARD
BEGIN:DAYLIGHT
TZOFFSETFROM:-0500
TZOFFSETTO:-0400
TZNAME:EDT
DTSTART:20270314T070000
END:DAYLIGHT
BEGIN:STANDARD
TZOFFSETFROM:-0400
TZOFFSETTO:-0500
TZNAME:EST
DTSTART:20271107T060000
END:STANDARD
BEGIN:DAYLIGHT
TZOFFSETFROM:-0500
TZOFFSETTO:-0400
TZNAME:EDT
DTSTART:20280312T070000
END:DAYLIGHT
BEGIN:STANDARD
TZOFFSETFROM:-0400
TZOFFSETTO:-0500
TZNAME:EST
DTSTART:20281105T060000
END:STANDARD
END:VTIMEZONE
BEGIN:VEVENT
DTSTART;TZID=America/New_York:20260704T000000
DTEND;TZID=America/New_York:20260704T000000
DTSTAMP:20260425T064339
CREATED:20250318T022416Z
LAST-MODIFIED:20250318T022416Z
UID:9924-1783123200-1783123200@welcomingnh.org
SUMMARY:Independence Day
DESCRIPTION:The United States’ national day commemorates the adoption of the Declaration of Independence in 1776. Festivities include fireworks\, parades\, and family gatherings.
URL:https://welcomingnh.org/event/independence-day-3/
CATEGORIES:General,Holiday
END:VEVENT
BEGIN:VEVENT
DTSTART;TZID=America/New_York:20260907T000000
DTEND;TZID=America/New_York:20260907T000000
DTSTAMP:20260425T064339
CREATED:20250318T022417Z
LAST-MODIFIED:20250318T022417Z
UID:9925-1788739200-1788739200@welcomingnh.org
SUMMARY:Labor Day
DESCRIPTION:In the United States\, Labor Day honors the contributions of workers and the labor movement. Observed on the first Monday of September\, it’s celebrated with parades\, picnics\, and a day off work.
URL:https://welcomingnh.org/event/labor-day-3/
CATEGORIES:General,Holiday
END:VEVENT
BEGIN:VEVENT
DTSTART;TZID=America/New_York:20260912T000000
DTEND;TZID=America/New_York:20260914T000000
DTSTAMP:20260425T064339
CREATED:20250318T022418Z
LAST-MODIFIED:20250318T022418Z
UID:9926-1789171200-1789344000@welcomingnh.org
SUMMARY:Rosh Hashanah
DESCRIPTION:The Jewish New Year\, marking the beginning of the High Holy Days. Traditions include sounding the shofar (ram’s horn) and festive meals.
URL:https://welcomingnh.org/event/rosh-hashanah-2/
CATEGORIES:General,Holiday
END:VEVENT
BEGIN:VEVENT
DTSTART;TZID=America/New_York:20260921T000000
DTEND;TZID=America/New_York:20260922T000000
DTSTAMP:20260425T064339
CREATED:20250318T022418Z
LAST-MODIFIED:20250318T022418Z
UID:9927-1789948800-1790035200@welcomingnh.org
SUMMARY:Yom Kippur
DESCRIPTION:Known as the Day of Atonement\, it’s the holiest day in Judaism\, dedicated to fasting\, prayer\, and repentance.
URL:https://welcomingnh.org/event/yom-kippur-2/
CATEGORIES:General,Holiday
END:VEVENT
BEGIN:VEVENT
DTSTART;TZID=America/New_York:20261010T000000
DTEND;TZID=America/New_York:20261010T000000
DTSTAMP:20260425T064339
CREATED:20250318T022426Z
LAST-MODIFIED:20250318T022426Z
UID:9928-1791590400-1791590400@welcomingnh.org
SUMMARY:Diwali
DESCRIPTION:Known as the Festival
URL:https://welcomingnh.org/event/diwali-2/
CATEGORIES:General,Holiday
END:VEVENT
BEGIN:VEVENT
DTSTART;TZID=America/New_York:20261031T000000
DTEND;TZID=America/New_York:20261031T000000
DTSTAMP:20260425T064339
CREATED:20250318T022431Z
LAST-MODIFIED:20250318T022431Z
UID:9929-1793404800-1793404800@welcomingnh.org
SUMMARY:Halloween
DESCRIPTION:Celebrated in various countries\, notably the United States\, Halloween involves activities like trick-or-treating\, costume parties\, and carving pumpkins. Its origins trace back to ancient Celtic festivals.
URL:https://welcomingnh.org/event/halloween-3/
CATEGORIES:General,Holiday
END:VEVENT
BEGIN:VEVENT
DTSTART;TZID=America/New_York:20261111T000000
DTEND;TZID=America/New_York:20261111T000000
DTSTAMP:20260425T064339
CREATED:20250318T022431Z
LAST-MODIFIED:20250318T022431Z
UID:9930-1794355200-1794355200@welcomingnh.org
SUMMARY:Veterans Day
DESCRIPTION:In the United States\, Veterans Day honors military veterans who have served in the U.S. Armed Forces. Observances include ceremonies and parades.
URL:https://welcomingnh.org/event/veterans-day-3/
CATEGORIES:General,Holiday
END:VEVENT
BEGIN:VEVENT
DTSTART;TZID=America/New_York:20261126T000000
DTEND;TZID=America/New_York:20261126T000000
DTSTAMP:20260425T064339
CREATED:20250318T022432Z
LAST-MODIFIED:20250318T022432Z
UID:9931-1795651200-1795651200@welcomingnh.org
SUMMARY:Thanksgiving Day
DESCRIPTION:A U.S. holiday expressing gratitude for the harvest and blessings of the past year. Traditions include family gatherings and festive meals\, notably featuring turkey.
URL:https://welcomingnh.org/event/thanksgiving-day-3/
CATEGORIES:General,Holiday
END:VEVENT
BEGIN:VEVENT
DTSTART;TZID=America/New_York:20261213T000000
DTEND;TZID=America/New_York:20261221T000000
DTSTAMP:20260425T064339
CREATED:20250318T022432Z
LAST-MODIFIED:20250318T022432Z
UID:9932-1797120000-1797811200@welcomingnh.org
SUMMARY:Hanukkah
DESCRIPTION:Also known as the Festival of Lights\, this Jewish holiday commemorates the rededication of the Second Temple in Jerusalem. Celebrations include lighting the menorah\, playing dreidel\, and eating oil-based foods.
URL:https://welcomingnh.org/event/hanukkah-2/
CATEGORIES:General,Holiday
END:VEVENT
BEGIN:VEVENT
DTSTART;TZID=America/New_York:20261225T000000
DTEND;TZID=America/New_York:20261225T000000
DTSTAMP:20260425T064339
CREATED:20250318T022436Z
LAST-MODIFIED:20250318T022436Z
UID:9933-1798156800-1798156800@welcomingnh.org
SUMMARY:Christmas Day
DESCRIPTION:Celebrated by Christians worldwide\, Christmas commemorates the birth of Jesus Christ. Traditions include attending church services\, exchanging gifts\, and festive decorations.
URL:https://welcomingnh.org/event/christmas-day-2/
CATEGORIES:General,Holiday
END:VEVENT
BEGIN:VEVENT
DTSTART;TZID=America/New_York:20261226T000000
DTEND;TZID=America/New_York:20270101T000000
DTSTAMP:20260425T064339
CREATED:20250318T022436Z
LAST-MODIFIED:20250318T022436Z
UID:9934-1798243200-1798761600@welcomingnh.org
SUMMARY:Kwanzaa
DESCRIPTION:An African-American cultural festival celebrating African heritage and values. Each of the seven days focuses on one of the Nguzo Saba\, or seven principles.
URL:https://welcomingnh.org/event/kwanzaa-2/
CATEGORIES:General,Holiday
END:VEVENT
BEGIN:VEVENT
DTSTART;TZID=America/New_York:20270101T000000
DTEND;TZID=America/New_York:20270101T000000
DTSTAMP:20260425T064339
CREATED:20250318T022437Z
LAST-MODIFIED:20250318T022437Z
UID:9935-1798761600-1798761600@welcomingnh.org
SUMMARY:New Year's Day
DESCRIPTION:Celebrated worldwide\, New Year’s Day marks the beginning of the new calendar year. Traditions include fireworks\, parties\, and making resolutions.
URL:https://welcomingnh.org/event/new-years-day-4/
CATEGORIES:General,Holiday
END:VEVENT
BEGIN:VEVENT
DTSTART;TZID=America/New_York:20270118T000000
DTEND;TZID=America/New_York:20270118T000000
DTSTAMP:20260425T064339
CREATED:20250318T022437Z
LAST-MODIFIED:20250318T022437Z
UID:9936-1800230400-1800230400@welcomingnh.org
SUMMARY:Martin Luther King Jr. Day
DESCRIPTION:A U.S. federal holiday honoring the civil rights leader Martin Luther King Jr. Observances include educational programs\, community service\, and reflections on civil rights.
URL:https://welcomingnh.org/event/martin-luther-king-jr-day-3/
CATEGORIES:General,Holiday
END:VEVENT
BEGIN:VEVENT
DTSTART;TZID=America/New_York:20270210T000000
DTEND;TZID=America/New_York:20270210T000000
DTSTAMP:20260425T064339
CREATED:20250318T022446Z
LAST-MODIFIED:20250318T022446Z
UID:9938-1802217600-1802217600@welcomingnh.org
SUMMARY:Ash Wednesday
DESCRIPTION:In Christianity\, Ash Wednesday marks the beginning of Lent\, a 40-day period of fasting and repentance leading up to Easter. Observances include church services and the imposition of ashes.
URL:https://welcomingnh.org/event/ash-wednesday-2/
CATEGORIES:General,Holiday
END:VEVENT
BEGIN:VEVENT
DTSTART;TZID=America/New_York:20270214T000000
DTEND;TZID=America/New_York:20270214T000000
DTSTAMP:20260425T064339
CREATED:20250318T022438Z
LAST-MODIFIED:20250318T022438Z
UID:9937-1802563200-1802563200@welcomingnh.org
SUMMARY:Valentine's Day
DESCRIPTION:Celebrated in many countries\, Valentine’s Day is associated with romantic love. Traditions include exchanging cards\, flowers\, and gifts with loved ones.
URL:https://welcomingnh.org/event/valentines-day-2/
CATEGORIES:General,Holiday
END:VEVENT
BEGIN:VEVENT
DTSTART;TZID=America/New_York:20270317T000000
DTEND;TZID=America/New_York:20270317T000000
DTSTAMP:20260425T064339
CREATED:20250318T022446Z
LAST-MODIFIED:20250318T022446Z
UID:9939-1805241600-1805241600@welcomingnh.org
SUMMARY:St. Patrick's Day
DESCRIPTION:Observed in Ireland and by people of Irish descent worldwide\, this day honors Saint Patrick\, the patron saint of Ireland. Celebrations often include parades\, wearing green attire\, and cultural festivities.
URL:https://welcomingnh.org/event/st-patricks-day-3/
CATEGORIES:General,Holiday
END:VEVENT
BEGIN:VEVENT
DTSTART;TZID=America/New_York:20270326T000000
DTEND;TZID=America/New_York:20270326T000000
DTSTAMP:20260425T064339
CREATED:20250318T022447Z
LAST-MODIFIED:20250318T022447Z
UID:9940-1806019200-1806019200@welcomingnh.org
SUMMARY:Good Friday
DESCRIPTION:Christians worldwide observe Good Friday to commemorate the crucifixion of Jesus Christ. It’s a day of mourning\, reflection\, and prayer.
URL:https://welcomingnh.org/event/good-friday-3/
CATEGORIES:General,Holiday
END:VEVENT
BEGIN:VEVENT
DTSTART;TZID=America/New_York:20270328T000000
DTEND;TZID=America/New_York:20270328T000000
DTSTAMP:20260425T064339
CREATED:20250318T022447Z
LAST-MODIFIED:20250318T022447Z
UID:9941-1806192000-1806192000@welcomingnh.org
SUMMARY:Easter Sunday
DESCRIPTION:Celebrated by Christians globally\, Easter Sunday marks the resurrection of Jesus Christ from the dead. Traditions include attending church services\, festive meals\, and egg-related activities.
URL:https://welcomingnh.org/event/easter-sunday-3/
CATEGORIES:General,Holiday
END:VEVENT
BEGIN:VEVENT
DTSTART;TZID=America/New_York:20270408T000000
DTEND;TZID=America/New_York:20270507T000000
DTSTAMP:20260425T064339
CREATED:20250318T022653Z
LAST-MODIFIED:20250318T022653Z
UID:9944-1807142400-1809648000@welcomingnh.org
SUMMARY:Ramadan
DESCRIPTION:A holy month of fasting\, prayer\, and reflection for Muslims worldwide. It commemorates the first revelation of the Quran to Muhammad. Observers fast from dawn until sunset.
URL:https://welcomingnh.org/event/ramadan-3/
CATEGORIES:General,Holiday
END:VEVENT
BEGIN:VEVENT
DTSTART;TZID=America/New_York:20270420T000000
DTEND;TZID=America/New_York:20270428T000000
DTSTAMP:20260425T064339
CREATED:20250318T022448Z
LAST-MODIFIED:20250318T022448Z
UID:9942-1808179200-1808870400@welcomingnh.org
SUMMARY:Passover (Pesach)
DESCRIPTION:A major Jewish festival celebrating the liberation of the Israelites from Egyptian slavery. Traditions include the Seder meal and abstaining from leavened bread.
URL:https://welcomingnh.org/event/passover-pesach-3/
CATEGORIES:General,Holiday
END:VEVENT
BEGIN:VEVENT
DTSTART;TZID=America/New_York:20270422T000000
DTEND;TZID=America/New_York:20270422T000000
DTSTAMP:20260425T064339
CREATED:20250318T022648Z
LAST-MODIFIED:20250318T022648Z
UID:9943-1808352000-1808352000@welcomingnh.org
SUMMARY:Earth Day
DESCRIPTION:An international observance promoting environmental protection and awareness. Established in 1970\, it’s celebrated with events\, clean-up activities\, and educational programs.
URL:https://welcomingnh.org/event/earth-day-3/
CATEGORIES:General,Holiday
END:VEVENT
BEGIN:VEVENT
DTSTART;TZID=America/New_York:20270508T000000
DTEND;TZID=America/New_York:20270509T000000
DTSTAMP:20260425T064339
CREATED:20250318T022655Z
LAST-MODIFIED:20250318T022655Z
UID:9945-1809734400-1809820800@welcomingnh.org
SUMMARY:Eid al-Fitr
DESCRIPTION:An important Islamic holiday marking the end of Ramadan. Celebrations include communal prayers\, feasts\, and giving charity.
URL:https://welcomingnh.org/event/eid-al-fitr-2/
CATEGORIES:General,Holiday
END:VEVENT
BEGIN:VEVENT
DTSTART;TZID=America/New_York:20270509T000000
DTEND;TZID=America/New_York:20270509T000000
DTSTAMP:20260425T064339
CREATED:20250318T022656Z
LAST-MODIFIED:20250318T022656Z
UID:9946-1809820800-1809820800@welcomingnh.org
SUMMARY:Mother's Day
DESCRIPTION:Celebrated in many countries\, Mother’s Day honors mothers and motherhood. Traditions include giving gifts\, cards\, and spending time with family.
URL:https://welcomingnh.org/event/mothers-day-3/
CATEGORIES:General,Holiday
END:VEVENT
BEGIN:VEVENT
DTSTART;TZID=America/New_York:20270531T000000
DTEND;TZID=America/New_York:20270531T000000
DTSTAMP:20260425T064339
CREATED:20250318T022656Z
LAST-MODIFIED:20250318T022656Z
UID:9947-1811721600-1811721600@welcomingnh.org
SUMMARY:Memorial Day
DESCRIPTION:In the United States\, Memorial Day honors military personnel who have died in service. Observed on the last Monday of May\, traditions include visiting cemeteries and holding parades.
URL:https://welcomingnh.org/event/memorial-day-5/
CATEGORIES:General,Holiday
END:VEVENT
BEGIN:VEVENT
DTSTART;TZID=America/New_York:20270620T000000
DTEND;TZID=America/New_York:20270620T000000
DTSTAMP:20260425T064339
CREATED:20250318T022717Z
LAST-MODIFIED:20250318T022717Z
UID:9948-1813449600-1813449600@welcomingnh.org
SUMMARY:Father's Day
DESCRIPTION:Celebrated in various countries\, Father’s Day honors fathers and fatherhood. Traditions include giving gifts\, cards\, and family gatherings.
URL:https://welcomingnh.org/event/fathers-day-3/
CATEGORIES:General,Holiday
END:VEVENT
BEGIN:VEVENT
DTSTART;TZID=America/New_York:20270704T000000
DTEND;TZID=America/New_York:20270704T000000
DTSTAMP:20260425T064339
CREATED:20250318T022718Z
LAST-MODIFIED:20250318T022718Z
UID:9949-1814659200-1814659200@welcomingnh.org
SUMMARY:Independence Day
DESCRIPTION:The United States’ national day commemorates the adoption of the Declaration of Independence in 1776. Festivities include fireworks\, parades\, and family gatherings.
URL:https://welcomingnh.org/event/independence-day-4/
CATEGORIES:General,Holiday
END:VEVENT
BEGIN:VEVENT
DTSTART;TZID=America/New_York:20270906T000000
DTEND;TZID=America/New_York:20270906T000000
DTSTAMP:20260425T064339
CREATED:20250318T022718Z
LAST-MODIFIED:20250318T022718Z
UID:9950-1820188800-1820188800@welcomingnh.org
SUMMARY:Labor Day
DESCRIPTION:In the United States\, Labor Day honors the contributions of workers and the labor movement. Observed on the first Monday of September\, it’s celebrated with parades\, picnics\, and a day off work.
URL:https://welcomingnh.org/event/labor-day-4/
CATEGORIES:General,Holiday
END:VEVENT
BEGIN:VEVENT
DTSTART;TZID=America/New_York:20271002T000000
DTEND;TZID=America/New_York:20271004T000000
DTSTAMP:20260425T064339
CREATED:20250318T022719Z
LAST-MODIFIED:20250318T022719Z
UID:9951-1822435200-1822608000@welcomingnh.org
SUMMARY:Rosh Hashanah
DESCRIPTION:The Jewish New Year\, marking the beginning of the High Holy Days. Traditions include sounding the shofar (ram’s horn) and festive meals.
URL:https://welcomingnh.org/event/rosh-hashanah-3/
CATEGORIES:General,Holiday
END:VEVENT
BEGIN:VEVENT
DTSTART;TZID=America/New_York:20271011T000000
DTEND;TZID=America/New_York:20271012T000000
DTSTAMP:20260425T064339
CREATED:20250318T022719Z
LAST-MODIFIED:20250318T022719Z
UID:9952-1823212800-1823299200@welcomingnh.org
SUMMARY:Yom Kippur
DESCRIPTION:Known as the Day of Atonement\, it’s the holiest day in Judaism\, dedicated to fasting\, prayer\, and repentance.
URL:https://welcomingnh.org/event/yom-kippur-3/
CATEGORIES:General,Holiday
END:VEVENT
BEGIN:VEVENT
DTSTART;TZID=America/New_York:20271020T000000
DTEND;TZID=America/New_York:20271020T000000
DTSTAMP:20260425T064339
CREATED:20250318T022847Z
LAST-MODIFIED:20250318T022847Z
UID:9953-1823990400-1823990400@welcomingnh.org
SUMMARY:Diwali
DESCRIPTION:Known as the Festival of Lights\, this major Hindu festival symbolizes the victory of light over darkness. Celebrations include lighting oil lamps\, fireworks\, and sharing sweets.
URL:https://welcomingnh.org/event/diwali-3/
CATEGORIES:General,Holiday
END:VEVENT
END:VCALENDAR